BEGIN:VCALENDAR
VERSION:2.0
PRODID:-//Great Bay Community College - ECPv6.15.20//NONSGML v1.0//EN
CALSCALE:GREGORIAN
METHOD:PUBLISH
X-WR-CALNAME:Great Bay Community College
X-ORIGINAL-URL:https://www.greatbay.edu
X-WR-CALDESC:Events for Great Bay Community College
REFRESH-INTERVAL;VALUE=DURATION:PT1H
X-Robots-Tag:noindex
X-PUBLISHED-TTL:PT1H
BEGIN:VTIMEZONE
TZID:America/New_York
BEGIN:DAYLIGHT
TZOFFSETFROM:-0500
TZOFFSETTO:-0400
TZNAME:EDT
DTSTART:20190310T070000
END:DAYLIGHT
BEGIN:STANDARD
TZOFFSETFROM:-0400
TZOFFSETTO:-0500
TZNAME:EST
DTSTART:20191103T060000
END:STANDARD
BEGIN:DAYLIGHT
TZOFFSETFROM:-0500
TZOFFSETTO:-0400
TZNAME:EDT
DTSTART:20200308T070000
END:DAYLIGHT
BEGIN:STANDARD
TZOFFSETFROM:-0400
TZOFFSETTO:-0500
TZNAME:EST
DTSTART:20201101T060000
END:STANDARD
BEGIN:DAYLIGHT
TZOFFSETFROM:-0500
TZOFFSETTO:-0400
TZNAME:EDT
DTSTART:20210314T070000
END:DAYLIGHT
BEGIN:STANDARD
TZOFFSETFROM:-0400
TZOFFSETTO:-0500
TZNAME:EST
DTSTART:20211107T060000
END:STANDARD
BEGIN:DAYLIGHT
TZOFFSETFROM:-0500
TZOFFSETTO:-0400
TZNAME:EDT
DTSTART:20220313T070000
END:DAYLIGHT
BEGIN:STANDARD
TZOFFSETFROM:-0400
TZOFFSETTO:-0500
TZNAME:EST
DTSTART:20221106T060000
END:STANDARD
BEGIN:DAYLIGHT
TZOFFSETFROM:-0500
TZOFFSETTO:-0400
TZNAME:EDT
DTSTART:20230312T070000
END:DAYLIGHT
BEGIN:STANDARD
TZOFFSETFROM:-0400
TZOFFSETTO:-0500
TZNAME:EST
DTSTART:20231105T060000
END:STANDARD
BEGIN:DAYLIGHT
TZOFFSETFROM:-0500
TZOFFSETTO:-0400
TZNAME:EDT
DTSTART:20240310T070000
END:DAYLIGHT
BEGIN:STANDARD
TZOFFSETFROM:-0400
TZOFFSETTO:-0500
TZNAME:EST
DTSTART:20241103T060000
END:STANDARD
BEGIN:DAYLIGHT
TZOFFSETFROM:-0500
TZOFFSETTO:-0400
TZNAME:EDT
DTSTART:20250309T070000
END:DAYLIGHT
BEGIN:STANDARD
TZOFFSETFROM:-0400
TZOFFSETTO:-0500
TZNAME:EST
DTSTART:20251102T060000
END:STANDARD
END:VTIMEZONE
BEGIN:VEVENT
DTSTART;VALUE=DATE:20240219
DTEND;VALUE=DATE:20240220
DTSTAMP:20260419T103931
CREATED:20240130T164435Z
LAST-MODIFIED:20240130T164435Z
UID:30720-1708300800-1708387199@www.greatbay.edu
SUMMARY:Presidents' Day
DESCRIPTION:GBCC Campuses closed in honor of Presidents’ Day.  No classes.
URL:https://www.greatbay.edu/event/presidents-day/
LOCATION:GBCC Portsmouth Campus\, 320 Corporate Drive\, Portsmouth\, NH\, 03801\, United States
CATEGORIES:Holidays & School Closures
END:VEVENT
BEGIN:VEVENT
DTSTART;TZID=America/New_York:20240208T160000
DTEND;TZID=America/New_York:20240208T190000
DTSTAMP:20260419T103931
CREATED:20240117T162141Z
LAST-MODIFIED:20240117T162141Z
UID:30551-1707408000-1707418800@www.greatbay.edu
SUMMARY:Art Gallery - Opening Reception
DESCRIPTION:The Gateway Gallery at Great Bay Community College is honored to present the work of Anita Loomis.The opening reception is scheduled for Thursday\, February 8th\, from 4 to 7 pm. \nThe exhibit is open to the public from Jan. 29 through Mar. 28th. M-Thursdays 7am-9pm and Friday 7-4pm.
URL:https://www.greatbay.edu/event/art-gallery-opening-reception/
LOCATION:GBCC Portsmouth Campus\, 320 Corporate Drive\, Portsmouth\, NH\, 03801\, United States
CATEGORIES:General
END:VEVENT
BEGIN:VEVENT
DTSTART;TZID=America/New_York:20240111T160000
DTEND;TZID=America/New_York:20240111T180000
DTSTAMP:20260419T103931
CREATED:20230719T124209Z
LAST-MODIFIED:20230719T124209Z
UID:29180-1704988800-1704996000@www.greatbay.edu
SUMMARY:Open House - Portsmouth Campus
DESCRIPTION:Attending an Open House is a great way for interested students to learn about programs\, pathways\, the admissions process\, financial aid and tour the campus. We would love to have you visit our campus\, learn more about our programs\, transfer opportunities and how to begin the application process. \nRegister Here
URL:https://www.greatbay.edu/event/open-house-portsmouth-january-11/
LOCATION:GBCC Portsmouth Campus\, 320 Corporate Drive\, Portsmouth\, NH\, 03801\, United States
CATEGORIES:Open House,Portsmouth Admissions Events
ATTACH;FMTTYPE=image/jpeg:https://www.greatbay.edu/wp-content/uploads/2022/12/Open-House-scaled.jpg
END:VEVENT
BEGIN:VEVENT
DTSTART;TZID=America/New_York:20231207T120000
DTEND;TZID=America/New_York:20231207T130000
DTSTAMP:20260419T103931
CREATED:20231108T130231Z
LAST-MODIFIED:20231108T130231Z
UID:29981-1701950400-1701954000@www.greatbay.edu
SUMMARY:Fiber Arts Stress Buster
DESCRIPTION:Bring your current project and spend time with fellow crafters to de-stress before finals. First time knitters/crocheters welcome!
URL:https://www.greatbay.edu/event/fiber-arts-stress-buster-2/
LOCATION:GBCC Portsmouth Campus\, 320 Corporate Drive\, Portsmouth\, NH\, 03801\, United States
CATEGORIES:Library Events & Workshops
END:VEVENT
BEGIN:VEVENT
DTSTART;TZID=America/New_York:20231205T120000
DTEND;TZID=America/New_York:20231205T130000
DTSTAMP:20260419T103931
CREATED:20231108T130144Z
LAST-MODIFIED:20231108T130144Z
UID:29979-1701777600-1701781200@www.greatbay.edu
SUMMARY:Fiber Arts Stress Buster
DESCRIPTION:Bring your current project and spend time with fellow crafters to de-stress before finals. First time knitters/crocheters welcome!
URL:https://www.greatbay.edu/event/fiber-arts-stress-buster/
LOCATION:GBCC Portsmouth Campus\, 320 Corporate Drive\, Portsmouth\, NH\, 03801\, United States
CATEGORIES:Library Events & Workshops
END:VEVENT
BEGIN:VEVENT
DTSTART;TZID=America/New_York:20231128T160000
DTEND;TZID=America/New_York:20231128T170000
DTSTAMP:20260419T103931
CREATED:20231107T132656Z
LAST-MODIFIED:20231107T132656Z
UID:29954-1701187200-1701190800@www.greatbay.edu
SUMMARY:Early Childhood Storytime
DESCRIPTION:Join us for our third Early Childhood Storytime!  Students\, faculty\, and staff bring your little one and join us in the library to listen to stories\, sing songs\, participate in fingerplays\, as well as complete a special activity. \nStorytime will be Tuesday\, November 28 from 4:15-5:00 pm in the library.  No RSVP is required\, but snacks and drinks will be provided.  Hope to see you there!
URL:https://www.greatbay.edu/event/early-childhood-storytime-2/
LOCATION:GBCC Portsmouth Campus\, 320 Corporate Drive\, Portsmouth\, NH\, 03801\, United States
CATEGORIES:Library Events & Workshops
ATTACH;FMTTYPE=image/png:https://www.greatbay.edu/wp-content/uploads/2023/11/Childhood-Storytime.png
END:VEVENT
BEGIN:VEVENT
DTSTART;TZID=America/New_York:20231120T120000
DTEND;TZID=America/New_York:20231120T130000
DTSTAMP:20260419T103931
CREATED:20230928T134625Z
LAST-MODIFIED:20230928T134625Z
UID:29582-1700481600-1700485200@www.greatbay.edu
SUMMARY:Gender Writing and Art Workshop
DESCRIPTION:Participate in a workshop picking either a writing or an art prompt about gender. Materials will be provided. \nLibrary\, Portsmouth Campus
URL:https://www.greatbay.edu/event/gender-writing-and-art-workshop/
LOCATION:GBCC Portsmouth Campus\, 320 Corporate Drive\, Portsmouth\, NH\, 03801\, United States
CATEGORIES:Library Events & Workshops
ATTACH;FMTTYPE=image/png:https://www.greatbay.edu/wp-content/uploads/2023/09/Writing-image.png
END:VEVENT
BEGIN:VEVENT
DTSTART;TZID=America/New_York:20231030T120000
DTEND;TZID=America/New_York:20231030T130000
DTSTAMP:20260419T103931
CREATED:20230928T131031Z
LAST-MODIFIED:20230928T131211Z
UID:29559-1698667200-1698670800@www.greatbay.edu
SUMMARY:Fiber Arts Group
DESCRIPTION:Knitting / Crocheting – Bring your project with you or stop in for a lesson! \nOpen to all students\, staff\, faculty. \nLocation: Library\, Portsmouth Campus
URL:https://www.greatbay.edu/event/fiber-arts-group-2/2023-10-30/
LOCATION:GBCC Portsmouth Campus\, 320 Corporate Drive\, Portsmouth\, NH\, 03801\, United States
CATEGORIES:Library Events & Workshops
END:VEVENT
BEGIN:VEVENT
DTSTART;TZID=America/New_York:20231023T120000
DTEND;TZID=America/New_York:20231023T130000
DTSTAMP:20260419T103931
CREATED:20230928T132548Z
LAST-MODIFIED:20230928T132548Z
UID:29571-1698062400-1698066000@www.greatbay.edu
SUMMARY:Film Discussion: The Birdcage
DESCRIPTION:Discussion of the 1996 film\, available to all faculty\, staff and students on the Library’s streaming service Swank. \nLibrary\, Portsmouth Campus
URL:https://www.greatbay.edu/event/film-discussion-the-birdcage/
LOCATION:GBCC Portsmouth Campus\, 320 Corporate Drive\, Portsmouth\, NH\, 03801\, United States
CATEGORIES:Library Events & Workshops
ATTACH;FMTTYPE=image/png:https://www.greatbay.edu/wp-content/uploads/2023/09/Group-discussion-icon-2.png
END:VEVENT
BEGIN:VEVENT
DTSTART;TZID=America/New_York:20231021T090000
DTEND;TZID=America/New_York:20231021T110000
DTSTAMP:20260419T103931
CREATED:20230719T123957Z
LAST-MODIFIED:20230719T123957Z
UID:29179-1697878800-1697886000@www.greatbay.edu
SUMMARY:Open House - Portsmouth Campus
DESCRIPTION:Attending an Open House is a great way for interested students to learn about programs\, pathways\, the admissions process\, financial aid and tour the campus. We would love to have you visit our campus\, learn more about our programs\, transfer opportunities and how to begin the application process. \nRegister Here
URL:https://www.greatbay.edu/event/open-house-portsmouth-october-21/
LOCATION:GBCC Portsmouth Campus\, 320 Corporate Drive\, Portsmouth\, NH\, 03801\, United States
CATEGORIES:Open House,Portsmouth Admissions Events
ATTACH;FMTTYPE=image/jpeg:https://www.greatbay.edu/wp-content/uploads/2022/12/Open-House-scaled.jpg
END:VEVENT
BEGIN:VEVENT
DTSTART;TZID=America/New_York:20231012T120000
DTEND;TZID=America/New_York:20231012T123000
DTSTAMP:20260419T103931
CREATED:20230928T134253Z
LAST-MODIFIED:20230928T134253Z
UID:29580-1697112000-1697113800@www.greatbay.edu
SUMMARY:Cricut Cutter Orientation
DESCRIPTION:Learn how to use the Cricut die-cut machines in the Library’s Makerspace. \nLibrary\, Portsmouth Campus
URL:https://www.greatbay.edu/event/cricut-cutter-orientation/
LOCATION:GBCC Portsmouth Campus\, 320 Corporate Drive\, Portsmouth\, NH\, 03801\, United States
CATEGORIES:Library Events & Workshops
END:VEVENT
BEGIN:VEVENT
DTSTART;TZID=America/New_York:20231002T120000
DTEND;TZID=America/New_York:20231002T130000
DTSTAMP:20260419T103931
CREATED:20230928T130403Z
LAST-MODIFIED:20230928T130403Z
UID:29555-1696248000-1696251600@www.greatbay.edu
SUMMARY:Fiber Arts Group
DESCRIPTION:Knitting / Crocheting – Bring your project with you or stop in for a lesson! \nOpen to all students\, staff\, faculty. \nLocation: Library\, Portsmouth Campus
URL:https://www.greatbay.edu/event/fiber-arts-group/2023-10-02/
LOCATION:GBCC Portsmouth Campus\, 320 Corporate Drive\, Portsmouth\, NH\, 03801\, United States
ATTACH;FMTTYPE=image/png:https://www.greatbay.edu/wp-content/uploads/2023/09/Crochet-crafts.png
END:VEVENT
BEGIN:VEVENT
DTSTART;TZID=America/New_York:20230928T160000
DTEND;TZID=America/New_York:20230928T163000
DTSTAMP:20260419T103931
CREATED:20230906T153838Z
LAST-MODIFIED:20230906T153935Z
UID:29328-1695916800-1695918600@www.greatbay.edu
SUMMARY:Library Technology Help Drop-in Session
DESCRIPTION:Stop in with any technology issue that is challenging you! \nLibrary Computer Lab
URL:https://www.greatbay.edu/event/library-technology-help-drop-in-session-3/
LOCATION:GBCC Portsmouth Campus\, 320 Corporate Drive\, Portsmouth\, NH\, 03801\, United States
CATEGORIES:Library Events & Workshops
ATTACH;FMTTYPE=image/png:https://www.greatbay.edu/wp-content/uploads/2023/09/College-technology-1.png
END:VEVENT
BEGIN:VEVENT
DTSTART;TZID=America/New_York:20230926T161500
DTEND;TZID=America/New_York:20230926T170000
DTSTAMP:20260419T103931
CREATED:20230921T114359Z
LAST-MODIFIED:20230921T114359Z
UID:29420-1695744900-1695747600@www.greatbay.edu
SUMMARY:Early Childhood Storytime
DESCRIPTION:Early Childhood Storytime \n\nTuesday\, 9/26\, 4:15-5 PM\, Library\nBring your little one for storytime! Listen to stories\, sing songs\, participate in fingerplays\, & make an activity with your child. Snacks and drinks provided\, no RSVP required.
URL:https://www.greatbay.edu/event/early-childhood-storytime/
LOCATION:GBCC Portsmouth Campus\, 320 Corporate Drive\, Portsmouth\, NH\, 03801\, United States
CATEGORIES:Library Events & Workshops
ATTACH;FMTTYPE=image/png:https://www.greatbay.edu/wp-content/uploads/2023/09/Image-Library-story-time.png
END:VEVENT
BEGIN:VEVENT
DTSTART;TZID=America/New_York:20230921T120000
DTEND;TZID=America/New_York:20230921T123000
DTSTAMP:20260419T103931
CREATED:20230906T154207Z
LAST-MODIFIED:20230906T154207Z
UID:29329-1695297600-1695299400@www.greatbay.edu
SUMMARY:Library Technology Help Drop-in Session
DESCRIPTION:Stop in with any technology issue that is challenging you! \nLibrary Computer Lab
URL:https://www.greatbay.edu/event/library-technology-help-drop-in-session-4/
LOCATION:GBCC Portsmouth Campus\, 320 Corporate Drive\, Portsmouth\, NH\, 03801\, United States
CATEGORIES:Library Events & Workshops
ATTACH;FMTTYPE=image/png:https://www.greatbay.edu/wp-content/uploads/2023/09/College-technology-1.png
END:VEVENT
BEGIN:VEVENT
DTSTART;TZID=America/New_York:20230919T160000
DTEND;TZID=America/New_York:20230919T163000
DTSTAMP:20260419T103931
CREATED:20230906T154907Z
LAST-MODIFIED:20230906T154907Z
UID:29331-1695139200-1695141000@www.greatbay.edu
SUMMARY:Library Technology Help Drop-in Session
DESCRIPTION:3D Printer Orientation \nLibrary Computer Lab
URL:https://www.greatbay.edu/event/library-technology-help-drop-in-session-5/
LOCATION:GBCC Portsmouth Campus\, 320 Corporate Drive\, Portsmouth\, NH\, 03801\, United States
CATEGORIES:Library Events & Workshops
ATTACH;FMTTYPE=image/png:https://www.greatbay.edu/wp-content/uploads/2023/09/College-technology-1.png
END:VEVENT
BEGIN:VEVENT
DTSTART;TZID=America/New_York:20230918T120000
DTEND;TZID=America/New_York:20230918T123000
DTSTAMP:20260419T103931
CREATED:20230906T153216Z
LAST-MODIFIED:20230906T153216Z
UID:29327-1695038400-1695040200@www.greatbay.edu
SUMMARY:Library Technology Help Drop-in Session
DESCRIPTION:Stop in with any technology issue that is challenging you! \nLibrary Computer Lab
URL:https://www.greatbay.edu/event/library-technology-help-drop-in-session-2/
LOCATION:GBCC Portsmouth Campus\, 320 Corporate Drive\, Portsmouth\, NH\, 03801\, United States
CATEGORIES:Library Events & Workshops
ATTACH;FMTTYPE=image/png:https://www.greatbay.edu/wp-content/uploads/2023/09/College-technology-1.png
END:VEVENT
BEGIN:VEVENT
DTSTART;TZID=America/New_York:20230912T120000
DTEND;TZID=America/New_York:20230912T123000
DTSTAMP:20260419T103931
CREATED:20230906T152240Z
LAST-MODIFIED:20230906T152240Z
UID:29325-1694520000-1694521800@www.greatbay.edu
SUMMARY:Library Technology Help Drop-in Session
DESCRIPTION:Stop in with any technology issue that is challenging you! \nLibrary Computer Lab
URL:https://www.greatbay.edu/event/library-technology-help-drop-in-session/
LOCATION:GBCC Portsmouth Campus\, 320 Corporate Drive\, Portsmouth\, NH\, 03801\, United States
CATEGORIES:Library Events & Workshops
ATTACH;FMTTYPE=image/png:https://www.greatbay.edu/wp-content/uploads/2023/09/College-technology-1.png
END:VEVENT
BEGIN:VEVENT
DTSTART;TZID=America/New_York:20230911T160000
DTEND;TZID=America/New_York:20230911T163000
DTSTAMP:20260419T103931
CREATED:20230906T125916Z
LAST-MODIFIED:20230906T130205Z
UID:29318-1694448000-1694449800@www.greatbay.edu
SUMMARY:Library Technology Help Drop-in Session
DESCRIPTION:Stop in with any technology issue that is challenging you! \nLibrary Computer Lab
URL:https://www.greatbay.edu/event/technology-help-drop-in-session/
LOCATION:GBCC Portsmouth Campus\, 320 Corporate Drive\, Portsmouth\, NH\, 03801\, United States
CATEGORIES:Library Events & Workshops
ATTACH;FMTTYPE=image/png:https://www.greatbay.edu/wp-content/uploads/2023/09/College-technology-1.png
END:VEVENT
BEGIN:VEVENT
DTSTART;TZID=America/New_York:20230406T160000
DTEND;TZID=America/New_York:20230406T180000
DTSTAMP:20260419T103931
CREATED:20220527T181406Z
LAST-MODIFIED:20220527T181406Z
UID:23541-1680796800-1680804000@www.greatbay.edu
SUMMARY:Open House - Portsmouth Campus
DESCRIPTION:Attending an Open House is a great way for interested students to learn about programs\, pathways\, the admissions process\, financial aid and tour the campus. We would love to have you visit our campus\, learn more about our programs\, transfer opportunities and how to begin the application process. \nRegister for events using the links below. \nRegister Here
URL:https://www.greatbay.edu/event/open-house-portsmouth-campus-3/
LOCATION:GBCC Portsmouth Campus\, 320 Corporate Drive\, Portsmouth\, NH\, 03801\, United States
CATEGORIES:Open House
END:VEVENT
BEGIN:VEVENT
DTSTART;TZID=America/New_York:20230105T160000
DTEND;TZID=America/New_York:20230105T180000
DTSTAMP:20260419T103931
CREATED:20220527T181228Z
LAST-MODIFIED:20220527T181228Z
UID:23539-1672934400-1672941600@www.greatbay.edu
SUMMARY:Open House - Portsmouth Campus
DESCRIPTION:Attending an Open House is a great way for interested students to learn about programs\, pathways\, the admissions process\, financial aid and tour the campus. We would love to have you visit our campus\, learn more about our programs\, transfer opportunities and how to begin the application process. \nRegister for events using the links below. \nRegister Here
URL:https://www.greatbay.edu/event/open-house-portsmouth-campus-2/
LOCATION:GBCC Portsmouth Campus\, 320 Corporate Drive\, Portsmouth\, NH\, 03801\, United States
CATEGORIES:Open House
END:VEVENT
BEGIN:VEVENT
DTSTART;TZID=America/New_York:20221105T090000
DTEND;TZID=America/New_York:20221105T110000
DTSTAMP:20260419T103931
CREATED:20220527T175953Z
LAST-MODIFIED:20221028T121036Z
UID:23529-1667638800-1667646000@www.greatbay.edu
SUMMARY:Open House - Portsmouth Campus
DESCRIPTION:Attending an Open House is a great way for interested students to learn about programs\, pathways\, the admissions process\, financial aid and tour the campus. We would love to have you visit our campus\, learn more about our programs\, transfer opportunities and how to begin the application process. \nRegister for events using the links below. \nRegister Here
URL:https://www.greatbay.edu/event/open-house-portsmouth-campus/
LOCATION:GBCC Portsmouth Campus\, 320 Corporate Drive\, Portsmouth\, NH\, 03801\, United States
CATEGORIES:Open House
ATTACH;FMTTYPE=image/jpeg:https://www.greatbay.edu/wp-content/uploads/2020/05/BTC.jpeg
END:VEVENT
BEGIN:VEVENT
DTSTART;TZID=America/New_York:20220707T170000
DTEND;TZID=America/New_York:20220707T180000
DTSTAMP:20260419T103931
CREATED:20220630T191419Z
LAST-MODIFIED:20220630T191419Z
UID:24115-1657213200-1657216800@www.greatbay.edu
SUMMARY:General Information Session (On Campus)
DESCRIPTION:Learn about Great Bay\, the general admissions process\, transfer opportunities\, financial aid and campus life. Our information sessions provide the opportunity to take a campus tour\, learn about programs\, and learn how to begin the application process. \nEach session is hosted by one of our Admissions Counselors who can also answer any questions you may have. \nClick here to access registration information for the sessions\nIf you’d like to learn more about admission to Great Bay but don’t want to attend an info session\, feel free to reach out to admissions staff directly at gbadmissions@ccsnh.edu.
URL:https://www.greatbay.edu/event/general-information-session-on-campus-2/2022-07-07/
LOCATION:GBCC Portsmouth Campus\, 320 Corporate Drive\, Portsmouth\, NH\, 03801\, United States
CATEGORIES:General Info Session
END:VEVENT
BEGIN:VEVENT
DTSTART;VALUE=DATE:20220620
DTEND;VALUE=DATE:20220621
DTSTAMP:20260419T103931
CREATED:20220531T155920Z
LAST-MODIFIED:20220531T155920Z
UID:23577-1655683200-1655769599@www.greatbay.edu
SUMMARY:Juneteenth Holiday
DESCRIPTION:The Great Bay Community College campuses are closed today in observance of the Juneteenth holiday.
URL:https://www.greatbay.edu/event/juneteenth-holiday/2022-06-20/
LOCATION:GBCC Portsmouth Campus\, 320 Corporate Drive\, Portsmouth\, NH\, 03801\, United States
CATEGORIES:Holidays & School Closures
END:VEVENT
BEGIN:VEVENT
DTSTART;TZID=America/New_York:20220512T170000
DTEND;TZID=America/New_York:20220512T173000
DTSTAMP:20260419T103931
CREATED:20220506T184420Z
LAST-MODIFIED:20220506T184420Z
UID:22947-1652374800-1652376600@www.greatbay.edu
SUMMARY:General Information Session (On Campus)
DESCRIPTION:Learn about Great Bay\, the general admissions process\, transfer opportunities\, financial aid and campus life. Our information sessions provide the opportunity to take a campus tour\, learn about programs\, and learn how to begin the application process. \nEach session lasts about 25 minutes and is hosted by one of our Admissions Counselors who can also answer any questions you may have. \nClick here to access registration information for the sessions\nIf you’d like to learn more about admission to Great Bay but don’t want to attend an info session\, feel free to reach out to admissions staff directly at gbadmissions@ccsnh.edu.
URL:https://www.greatbay.edu/event/general-information-session-on-campus/2022-05-12/
LOCATION:GBCC Portsmouth Campus\, 320 Corporate Drive\, Portsmouth\, NH\, 03801\, United States
CATEGORIES:Admissions Events,General Info Session
END:VEVENT
BEGIN:VEVENT
DTSTART;TZID=America/New_York:20200305T170000
DTEND;TZID=America/New_York:20200305T180000
DTSTAMP:20260419T103931
CREATED:20200207T023553Z
LAST-MODIFIED:20200207T023553Z
UID:5212-1583427600-1583431200@www.greatbay.edu
SUMMARY:General Info Session
DESCRIPTION:Learn about the programs Great Bay offers and how to get started on the path to your educational goals! The event will be held in Room 114. \nRegister Now
URL:https://www.greatbay.edu/event/general-info-session-2/
LOCATION:GBCC Portsmouth Campus\, 320 Corporate Drive\, Portsmouth\, NH\, 03801\, United States
CATEGORIES:Admissions Events
END:VEVENT
BEGIN:VEVENT
DTSTART;TZID=America/New_York:20200213T170000
DTEND;TZID=America/New_York:20200213T180000
DTSTAMP:20260419T103931
CREATED:20200207T023500Z
LAST-MODIFIED:20200207T023500Z
UID:5210-1581613200-1581616800@www.greatbay.edu
SUMMARY:General Info Session
DESCRIPTION:Learn about the programs Great Bay offers and how to get started on the path to your educational goals! The event will be held in Room 122. \nRegister Now
URL:https://www.greatbay.edu/event/general-info-session/
LOCATION:GBCC Portsmouth Campus\, 320 Corporate Drive\, Portsmouth\, NH\, 03801\, United States
CATEGORIES:Admissions Events
END:VEVENT
END:VCALENDAR