BEGIN:VCALENDAR
VERSION:2.0
PRODID:-//Great Bay Community College - ECPv6.15.20//NONSGML v1.0//EN
CALSCALE:GREGORIAN
METHOD:PUBLISH
X-WR-CALNAME:Great Bay Community College
X-ORIGINAL-URL:https://www.greatbay.edu
X-WR-CALDESC:Events for Great Bay Community College
REFRESH-INTERVAL;VALUE=DURATION:PT1H
X-Robots-Tag:noindex
X-PUBLISHED-TTL:PT1H
BEGIN:VTIMEZONE
TZID:America/New_York
BEGIN:DAYLIGHT
TZOFFSETFROM:-0500
TZOFFSETTO:-0400
TZNAME:EDT
DTSTART:20240310T070000
END:DAYLIGHT
BEGIN:STANDARD
TZOFFSETFROM:-0400
TZOFFSETTO:-0500
TZNAME:EST
DTSTART:20241103T060000
END:STANDARD
BEGIN:DAYLIGHT
TZOFFSETFROM:-0500
TZOFFSETTO:-0400
TZNAME:EDT
DTSTART:20250309T070000
END:DAYLIGHT
BEGIN:STANDARD
TZOFFSETFROM:-0400
TZOFFSETTO:-0500
TZNAME:EST
DTSTART:20251102T060000
END:STANDARD
BEGIN:DAYLIGHT
TZOFFSETFROM:-0500
TZOFFSETTO:-0400
TZNAME:EDT
DTSTART:20260308T070000
END:DAYLIGHT
BEGIN:STANDARD
TZOFFSETFROM:-0400
TZOFFSETTO:-0500
TZNAME:EST
DTSTART:20261101T060000
END:STANDARD
END:VTIMEZONE
BEGIN:VEVENT
DTSTART;TZID=America/New_York:20251105T120000
DTEND;TZID=America/New_York:20251105T130000
DTSTAMP:20260423T154143
CREATED:20250819T125035Z
LAST-MODIFIED:20250819T125035Z
UID:35818-1762344000-1762347600@www.greatbay.edu
SUMMARY:Nursing Info Session
DESCRIPTION:GBCC Nursing Information Session\nInterested in our Nursing Associate Degree program? Whether you’re a current high school student\, a transfer student with previous college credit\, or already working in healthcare\, this session will provide the opportunity to learn about the Nursing program and how to begin the application process. This session is offered virtually by Zoom or in-person at our Portsmouth Campus. \nNovember 5\, 2025 (12:00PM) \nRegister for November 5th Nursing Info Session
URL:https://www.greatbay.edu/event/nursing-info-session-7/
LOCATION:GBCC Portsmouth Campus\, 320 Corporate Drive\, Portsmouth\, NH\, 03801\, United States
CATEGORIES:Nursing Program Info Sessions
END:VEVENT
END:VCALENDAR